BEGIN:VCALENDAR
VERSION:2.0
PRODID:-//WIRV - ECPv4.6.20.1//NONSGML v1.0//EN
CALSCALE:GREGORIAN
METHOD:PUBLISH
X-WR-CALNAME:WIRV
X-ORIGINAL-URL:https://wirv.com.au
X-WR-CALDESC:Events for WIRV
BEGIN:VEVENT
DTSTART;TZID=Australia/Melbourne:20240718T180000
DTEND;TZID=Australia/Melbourne:20240718T220000
DTSTAMP:20260422T092231
CREATED:20240611T030853Z
LAST-MODIFIED:20240723T000633Z
UID:19751-1721325600-1721340000@wirv.com.au
SUMMARY:2024 WIRV Winter Cocktail and Awards Night
DESCRIPTION:Thank you to all those who attended the 2024 WIRV Winter Cocktail and Awards Night held on Thursday\, 18 July 2024 from 6pm at The State Library of Victoria\, Isabella Fraser Room\, 328 Lonsdale Street\, Melbourne\, 3000. \nCongratulations to the recipients of this year’s WIRV Awards! \n  \n
URL:https://wirv.com.au/event/2024-wirv-winter-cocktail-and-awards-night/
LOCATION:Isabella Fraser Room\, 328 Lonsdale Street\, Melbourne\, Victoria\, 3000\, Australia
CATEGORIES:Past Events
ATTACH;FMTTYPE=image/png:https://wirv.com.au/wp-content/uploads/2024/06/2024-WIRV-Awards-Night-.png
END:VEVENT
END:VCALENDAR