BEGIN:VCALENDAR
VERSION:2.0
PRODID:-//WIRV - ECPv4.6.20.1//NONSGML v1.0//EN
CALSCALE:GREGORIAN
METHOD:PUBLISH
X-WR-CALNAME:WIRV
X-ORIGINAL-URL:https://wirv.com.au
X-WR-CALDESC:Events for WIRV
BEGIN:VEVENT
DTSTART;TZID=Australia/Melbourne:20210225T090000
DTEND;TZID=Australia/Melbourne:20210225T100000
DTSTAMP:20260424T161913
CREATED:20210210T041319Z
LAST-MODIFIED:20240726T091344Z
UID:9383-1614243600-1614247200@wirv.com.au
SUMMARY:Morning Webinar - COVID Safe Workplaces: Considerations for Insolvency Practitioners
DESCRIPTION:Thanks to everyone who attended WIRV and Law Squared’s webinar on Thursday\, 25 February 2021. \nThe topic of the briefing was COVID safe workplaces: Considerations for Insolvency Practitioners. The webinar shared insights into responsibilities and considerations for appointees to a company that has an office or other workspace. Attendees heard from Andrew Brooks\, Employment + Workplace Relations lawyer at Law Squared\, one of Australia’s most innovative NewLaw firms. Andrew specialises in helping employers and their management teams deal with daily staff issues and complex legal problems as they arise during the employment life cycle. \n
URL:https://wirv.com.au/event/morning-webinar-covid-safe-workplaces-considerations-for-insolvency-practitioners/
CATEGORIES:Past Events
ATTACH;FMTTYPE=image/jpeg:https://wirv.com.au/wp-content/uploads/2021/02/Picture1.jpg
END:VEVENT
END:VCALENDAR