BEGIN:VCALENDAR
VERSION:2.0
PRODID:-//WIRV - ECPv4.6.20.1//NONSGML v1.0//EN
CALSCALE:GREGORIAN
METHOD:PUBLISH
X-WR-CALNAME:WIRV
X-ORIGINAL-URL:https://wirv.com.au
X-WR-CALDESC:Events for WIRV
BEGIN:VEVENT
DTSTART;VALUE=DATE:20210906
DTEND;VALUE=DATE:20210917
DTSTAMP:20260420T055056
CREATED:20210902T064141Z
LAST-MODIFIED:20220217T043822Z
UID:11138-1630886400-1631836799@wirv.com.au
SUMMARY:Virtual Networking Drinks
DESCRIPTION:WIRV hosted another successful Virtual Drinks between 6 September 2021 to 16 September 2021. The Virtual Drinks are an informal networking workshop for members\, which is held over Zoom in groups of approximately 5-6 people and facilitated by a member of the WIRV Networking Sub-Committee. Each session goes for approximately 45 minutes. \nKeep your eye out for future Virtual Drinks events. \n
URL:https://wirv.com.au/event/virtual-networking-drinks/
CATEGORIES:Past Events
ATTACH;FMTTYPE=image/png:https://wirv.com.au/wp-content/uploads/2021/09/VIRTUAL-DRINKS.png
END:VEVENT
END:VCALENDAR