BEGIN:VCALENDAR
VERSION:2.0
PRODID:-//WIRV - ECPv4.6.20.1//NONSGML v1.0//EN
CALSCALE:GREGORIAN
METHOD:PUBLISH
X-WR-CALNAME:WIRV
X-ORIGINAL-URL:https://wirv.com.au
X-WR-CALDESC:Events for WIRV
BEGIN:VEVENT
DTSTART;TZID=Australia/Melbourne:20230213T133000
DTEND;TZID=Australia/Melbourne:20230213T150000
DTSTAMP:20260425T160820
CREATED:20230126T221353Z
LAST-MODIFIED:20230130T214836Z
UID:15149-1676295000-1676300400@wirv.com.au
SUMMARY:WIRV Career Progression Boardroom Lunch with Kylie Wright
DESCRIPTION:Join Kylie Wright as she gives insight into her unorthodox journey as both a Registered Liquidator and Registered Trustee in Bankruptcy in Australia\, who splits her time between Australia and the Rocky Mountains in Canada. \nKylie commenced her insolvency career with a national firm in 2001\, before joining PCI Partners in late 2016. \nKylie does not allow the time difference to stop her from actively participating in the wider Australian insolvency industry. She leads ARITA workshops for the Insolvency Education Program and is a panel member for the registration of new Registered Trustees in Bankruptcy. \nThis is a members-only event. \n
URL:https://wirv.com.au/event/wirv-career-progression-boardroom-lunch-with-kylie-wright/
LOCATION:Level 25\, 525 Collins Street\, Melbourne\, Victoria\, 3000\, Australia
ATTACH;FMTTYPE=image/png:https://wirv.com.au/wp-content/uploads/2023/01/Copy-of-Revised-WIRV-Template-2.2.png
END:VEVENT
END:VCALENDAR