BEGIN:VCALENDAR
VERSION:2.0
PRODID:-//WIRV - ECPv4.6.20.1//NONSGML v1.0//EN
CALSCALE:GREGORIAN
METHOD:PUBLISH
X-WR-CALNAME:WIRV
X-ORIGINAL-URL:https://wirv.com.au
X-WR-CALDESC:Events for WIRV
BEGIN:VEVENT
DTSTART;TZID=Australia/Melbourne:20211021T103000
DTEND;TZID=Australia/Melbourne:20211021T113000
DTSTAMP:20260425T185801
CREATED:20211003T235755Z
LAST-MODIFIED:20240726T091259Z
UID:11391-1634812200-1634815800@wirv.com.au
SUMMARY:WIRV Morning Webinar – Bankruptcy: A case study
DESCRIPTION:Thank you to everyone that attended our morning webinar on Monday\, 18 October 2021. We heard from Alice Ruhe\, Partner of SMB Advisory\, and Radhika Kanhai\, Partner of Cornwalls\, who presented a worked case study on the complexities of bankruptcy\, with matters including constructive and resulting trusts\, extension of caveat\, the presumption of advancement\, complex income assessments\, public examinations\, conduct review and dealing with other insolvency practitioners. \nSlides from the webinar are located here. \n
URL:https://wirv.com.au/event/wirv-morning-webinar-bankruptcy-a-case-study/
CATEGORIES:Past Events
ATTACH;FMTTYPE=image/png:https://wirv.com.au/wp-content/uploads/2021/10/CornwallsSMB-1080x1080-1.png
END:VEVENT
END:VCALENDAR